BEGIN:VCALENDAR
VERSION:2.0
PRODID:-//Klub Włoskiego - ECPv6.15.17.1//NONSGML v1.0//EN
CALSCALE:GREGORIAN
METHOD:PUBLISH
X-ORIGINAL-URL:https://klubwloskiego.pl
X-WR-CALDESC:Wydarzenia dla Klub Włoskiego
REFRESH-INTERVAL;VALUE=DURATION:PT1H
X-Robots-Tag:noindex
X-PUBLISHED-TTL:PT1H
BEGIN:VTIMEZONE
TZID:Europe/Warsaw
BEGIN:DAYLIGHT
TZOFFSETFROM:+0100
TZOFFSETTO:+0200
TZNAME:CEST
DTSTART:20240331T010000
END:DAYLIGHT
BEGIN:STANDARD
TZOFFSETFROM:+0200
TZOFFSETTO:+0100
TZNAME:CET
DTSTART:20241027T010000
END:STANDARD
BEGIN:DAYLIGHT
TZOFFSETFROM:+0100
TZOFFSETTO:+0200
TZNAME:CEST
DTSTART:20250330T010000
END:DAYLIGHT
BEGIN:STANDARD
TZOFFSETFROM:+0200
TZOFFSETTO:+0100
TZNAME:CET
DTSTART:20251026T010000
END:STANDARD
BEGIN:DAYLIGHT
TZOFFSETFROM:+0100
TZOFFSETTO:+0200
TZNAME:CEST
DTSTART:20260329T010000
END:DAYLIGHT
BEGIN:STANDARD
TZOFFSETFROM:+0200
TZOFFSETTO:+0100
TZNAME:CET
DTSTART:20261025T010000
END:STANDARD
END:VTIMEZONE
BEGIN:VEVENT
DTSTART;TZID=Europe/Warsaw:20250203T000000
DTEND;TZID=Europe/Warsaw:20250302T235959
DTSTAMP:20260419T202836
CREATED:20250131T215719Z
LAST-MODIFIED:20250206T101039Z
UID:52830-1738540800-1740959999@klubwloskiego.pl
SUMMARY:Kurs Moje pierwsze włoskie czasowniki cz. 2
DESCRIPTION:Przez cały luty codziennie będzie dostępna nowa lekcja w nowym kursie – Moje pierwsze włoskie czasowniki cz. 2. \n\n\n\nTo kurs nie tylko dla początkujących! 😏 \n\n\n\n\nKto prowadzi?: 
URL:https://klubwloskiego.pl/wydarzenie/kurs-moje-pierwsze-wloskie-czasowniki-cz-2/
END:VEVENT
BEGIN:VEVENT
DTSTART;TZID=Europe/Warsaw:20250205T200000
DTEND;TZID=Europe/Warsaw:20250205T210000
DTSTAMP:20260419T202836
CREATED:20250124T151129Z
LAST-MODIFIED:20250203T225151Z
UID:52669-1738785600-1738789200@klubwloskiego.pl
SUMMARY:Dibattito sull'inverno: pro e contro
DESCRIPTION:Na tym spotkaniu przeprowadzimy debatę związaną z zimą. Na początku będzie krótkie wprowadzenie na temat wyrażeń przydatnych do argumentowania swojego zdania. Następnie praca w grupie i końcowa debata. \n\n\n\n\nKto prowadzi?: 
URL:https://klubwloskiego.pl/wydarzenie/dibattito-sullinverno-pro-e-contro/
END:VEVENT
END:VCALENDAR