BEGIN:VCALENDAR
VERSION:2.0
PRODID:-//Klub Włoskiego - ECPv6.15.17.1//NONSGML v1.0//EN
CALSCALE:GREGORIAN
METHOD:PUBLISH
X-ORIGINAL-URL:https://klubwloskiego.pl
X-WR-CALDESC:Wydarzenia dla Klub Włoskiego
REFRESH-INTERVAL;VALUE=DURATION:PT1H
X-Robots-Tag:noindex
X-PUBLISHED-TTL:PT1H
BEGIN:VTIMEZONE
TZID:Europe/Warsaw
BEGIN:DAYLIGHT
TZOFFSETFROM:+0100
TZOFFSETTO:+0200
TZNAME:CEST
DTSTART:20240331T010000
END:DAYLIGHT
BEGIN:STANDARD
TZOFFSETFROM:+0200
TZOFFSETTO:+0100
TZNAME:CET
DTSTART:20241027T010000
END:STANDARD
BEGIN:DAYLIGHT
TZOFFSETFROM:+0100
TZOFFSETTO:+0200
TZNAME:CEST
DTSTART:20250330T010000
END:DAYLIGHT
BEGIN:STANDARD
TZOFFSETFROM:+0200
TZOFFSETTO:+0100
TZNAME:CET
DTSTART:20251026T010000
END:STANDARD
BEGIN:DAYLIGHT
TZOFFSETFROM:+0100
TZOFFSETTO:+0200
TZNAME:CEST
DTSTART:20260329T010000
END:DAYLIGHT
BEGIN:STANDARD
TZOFFSETFROM:+0200
TZOFFSETTO:+0100
TZNAME:CET
DTSTART:20261025T010000
END:STANDARD
END:VTIMEZONE
BEGIN:VEVENT
DTSTART;TZID=Europe/Warsaw:20250402T200000
DTEND;TZID=Europe/Warsaw:20250402T203000
DTSTAMP:20260419T145845
CREATED:20250320T155957Z
LAST-MODIFIED:20250401T070411Z
UID:54199-1743624000-1743625800@klubwloskiego.pl
SUMMARY:Klubowy live Q&A
DESCRIPTION:Na tym spotkaniu odpowiem na Wasze pytania 🙂 \n\n\n\nSwoje pytanie możesz zadać tutaj. \n\n\n\n\nKto prowadzi?: 
URL:https://klubwloskiego.pl/wydarzenie/klubowy-live-qa-3/
END:VEVENT
BEGIN:VEVENT
DTSTART;TZID=Europe/Warsaw:20250409T200000
DTEND;TZID=Europe/Warsaw:20250409T210000
DTSTAMP:20260419T145845
CREATED:20250401T072620Z
LAST-MODIFIED:20250401T072637Z
UID:54439-1744228800-1744232400@klubwloskiego.pl
SUMMARY:Attività invernali da fare al chiuso #2
DESCRIPTION:Konwersacje grupowe na poziomie A2-B1. \n\n\n\n\nKto prowadzi?: 
URL:https://klubwloskiego.pl/wydarzenie/attivita-invernali-da-fare-al-chiuso-2/
END:VEVENT
BEGIN:VEVENT
DTSTART;TZID=Europe/Warsaw:20250416T200000
DTEND;TZID=Europe/Warsaw:20250416T210000
DTSTAMP:20260419T145845
CREATED:20250401T073016Z
LAST-MODIFIED:20250414T160529Z
UID:54442-1744833600-1744837200@klubwloskiego.pl
SUMMARY:Warsztaty wymowy #3
DESCRIPTION:Spotkanie dla osób na każdym poziomie zaawansowania. \n\n\n\nTo już trzecie spotkanie tego typu. Tym razem na tych warsztatach chcę skupić się na: \n\n\n\n\nkilku problematycznych wyrazach pochodzenia obcego\, które są często przekręcane (oczywiście w zdaniach z życia wziętych\, żeby poza wymową móc wynieść też coś fajnego komunikacyjnie)\,\n\n\n\nłączeniu dźwięków – czyli jak brzmieć bardziej włosko\, ale przede wszystkim\, jak nauczyć się rozpoznawać wyrazy\, gdy Włosi szybko mówią i zlepiają ze sobą wyrazy\, “zjadając” litery.\n\n\n\n\n\nKto prowadzi?: 
URL:https://klubwloskiego.pl/wydarzenie/warsztaty-wymowy-3/
END:VEVENT
BEGIN:VEVENT
DTSTART;TZID=Europe/Warsaw:20250421T000000
DTEND;TZID=Europe/Warsaw:20250524T235959
DTSTAMP:20260419T145845
CREATED:20250423T210121Z
LAST-MODIFIED:20250423T210207Z
UID:54684-1745193600-1748131199@klubwloskiego.pl
SUMMARY:Wyzwanie Sanremo 2025
DESCRIPTION:Zapraszam do udziału na bieżąco w najnowszym klubowym wyzwaniu! \n\n\n\n\nSugerowany poziom zaawansowania: od A2\n\n\n\nCzas trwania: 26 dni (przy założeniu przerabiania jednej lekcji dziennie\, możesz skończyć szybciej lub możesz przerabiać kurs wolniej)\n\n\n\n\n\nKto prowadzi?: 
URL:https://klubwloskiego.pl/wydarzenie/wyzwanie-sanremo-2025/
ATTACH;FMTTYPE=image/jpeg:https://klubwloskiego.pl/wp-content/uploads/2025/04/wyzwanie-sanremo-2025.jpg
END:VEVENT
BEGIN:VEVENT
DTSTART;TZID=Europe/Warsaw:20250423T200000
DTEND;TZID=Europe/Warsaw:20250423T210000
DTSTAMP:20260419T145845
CREATED:20250401T073806Z
LAST-MODIFIED:20250401T073808Z
UID:54448-1745438400-1745442000@klubwloskiego.pl
SUMMARY:Autori italiani contemporanei
DESCRIPTION:Questa volta proviamo a fare una lezione diversa. Ognuno preparerà una breve descrizione su uno degli autori italiani contemporanei da noi proposti. La lista sarà pubblicata nel gruppo Attualità. \n\n\n\n\nKto prowadzi?: 
URL:https://klubwloskiego.pl/wydarzenie/autori-italiani-contemporanei/
END:VEVENT
BEGIN:VEVENT
DTSTART;TZID=Europe/Warsaw:20250430T200000
DTEND;TZID=Europe/Warsaw:20250430T210000
DTSTAMP:20260419T145845
CREATED:20250423T205057Z
LAST-MODIFIED:20250423T205101Z
UID:54678-1746043200-1746046800@klubwloskiego.pl
SUMMARY:Webinar – Modi di dire legati allo sport
DESCRIPTION:Tym razem zapraszam na webinar po włosku prowadzony przez Damianę. Tematem przewodnim będzie sport\, ale oczywiście zakres wykorzystania powiedzeń\, które zostaną omówione będzie znacznie szerszy! \n\n\n\n\nKto prowadzi?: 
URL:https://klubwloskiego.pl/wydarzenie/webinar-modi-di-dire-legati-allo-sport/
END:VEVENT
END:VCALENDAR